Workbook

Sheet Sheet1

Sheet Sheet2
A1: Kohm | B1: Temp (Base) | C1: Series | D1: Temp (Series) | E1: Parallel | F1: Temp (parallel) | G1: Combined | H1: Temp (Combined)
A2: 0.325 | B2: 150 | C2: =A2+Sheet2!$D$27 -> 16.325 | D2: =VLOOKUP(C2,$A$2:$K$23,2) -> 20 | E2: =1/((1/A2)+(1/Sheet2!$D$28)) -> 0.31852986 | F2: =VLOOKUP(E2,$A$2:$K$23,2) -> #N/A | G2: =C2+E2 -> 16.64353 | H2: =VLOOKUP(G2,$A$2:$K$23,2) -> 20
A3: 0.395 | B3: 140 | C3: =A3+Sheet2!$D$27 -> 16.395 | D3: =VLOOKUP(C3,$A$2:$K$23,2) -> 20 | E3: =1/((1/A3)+(1/Sheet2!$D$28)) -> 0.38548338 | F3: =VLOOKUP(E3,$A$2:$K$23,2) -> 150 | G3: =C3+E3 -> 16.780483 | H3: =VLOOKUP(G3,$A$2:$K$23,2) -> 20
A4: 0.487 | B4: 130 | C4: =A4+Sheet2!$D$27 -> 16.487 | D4: =VLOOKUP(C4,$A$2:$K$23,2) -> 20 | E4: =1/((1/A4)+(1/Sheet2!$D$28)) -> 0.47261479 | F4: =VLOOKUP(E4,$A$2:$K$23,2) -> 140 | G4: =C4+E4 -> 16.959615 | H4: =VLOOKUP(G4,$A$2:$K$23,2) -> 20
A5: 0.605 | B5: 120 | C5: =A5+Sheet2!$D$27 -> 16.605 | D5: =VLOOKUP(C5,$A$2:$K$23,2) -> 20 | E5: =1/((1/A5)+(1/Sheet2!$D$28)) -> 0.58295694 | F5: =VLOOKUP(E5,$A$2:$K$23,2) -> 130 | G5: =C5+E5 -> 17.187957 | H5: =VLOOKUP(G5,$A$2:$K$23,2) -> 20
A6: 0.752 | B6: 110 | C6: =A6+Sheet2!$D$27 -> 16.752 | D6: =VLOOKUP(C6,$A$2:$K$23,2) -> 20 | E6: =1/((1/A6)+(1/Sheet2!$D$28)) -> 0.7182426 | F6: =VLOOKUP(E6,$A$2:$K$23,2) -> 120 | G6: =C6+E6 -> 17.470243 | H6: =VLOOKUP(G6,$A$2:$K$23,2) -> 20
A7: 0.973 | B7: 100 | C7: =A7+Sheet2!$D$27 -> 16.973 | D7: =VLOOKUP(C7,$A$2:$K$23,2) -> 20 | E7: =1/((1/A7)+(1/Sheet2!$D$28)) -> 0.91722147 | F7: =VLOOKUP(E7,$A$2:$K$23,2) -> 110 | G7: =C7+E7 -> 17.890221 | H7: =VLOOKUP(G7,$A$2:$K$23,2) -> 20
A8: 1.266 | B8: 90 | C8: =A8+Sheet2!$D$27 -> 17.266 | D8: =VLOOKUP(C8,$A$2:$K$23,2) -> 20 | E8: =1/((1/A8)+(1/Sheet2!$D$28)) -> 1.1731727 | F8: =VLOOKUP(E8,$A$2:$K$23,2) -> 100 | G8: =C8+E8 -> 18.439173 | H8: =VLOOKUP(G8,$A$2:$K$23,2) -> 10
A9: 1.669 | B9: 80 | C9: =A9+Sheet2!$D$27 -> 17.669 | D9: =VLOOKUP(C9,$A$2:$K$23,2) -> 20 | E9: =1/((1/A9)+(1/Sheet2!$D$28)) -> 1.5113476 | F9: =VLOOKUP(E9,$A$2:$K$23,2) -> 90 | G9: =C9+E9 -> 19.180348 | H9: =VLOOKUP(G9,$A$2:$K$23,2) -> 10
A10: 2.229 | B10: 70 | C10: =A10+Sheet2!$D$27 -> 18.229 | D10: =VLOOKUP(C10,$A$2:$K$23,2) -> 10 | E10: =1/((1/A10)+(1/Sheet2!$D$28)) -> 1.956443 | F10: =VLOOKUP(E10,$A$2:$K$23,2) -> 80 | G10: =C10+E10 -> 20.185443 | H10: =VLOOKUP(G10,$A$2:$K$23,2) -> 10
A11: 3.021 | B11: 60 | C11: =A11+Sheet2!$D$27 -> 19.021 | D11: =VLOOKUP(C11,$A$2:$K$23,2) -> 10 | E11: =1/((1/A11)+(1/Sheet2!$D$28)) -> 2.5411913 | F11: =VLOOKUP(E11,$A$2:$K$23,2) -> 70 | G11: =C11+E11 -> 21.562191 | H11: =VLOOKUP(G11,$A$2:$K$23,2) -> 10
A12: 4.161 | B12: 50 | C12: =A12+Sheet2!$D$27 -> 20.161 | D12: =VLOOKUP(C12,$A$2:$K$23,2) -> 10 | E12: =1/((1/A12)+(1/Sheet2!$D$28)) -> 3.3022172 | F12: =VLOOKUP(E12,$A$2:$K$23,2) -> 60 | G12: =C12+E12 -> 23.463217 | H12: =VLOOKUP(G12,$A$2:$K$23,2) -> 10
A13: 5.828 | B13: 40 | C13: =A13+Sheet2!$D$27 -> 21.828 | D13: =VLOOKUP(C13,$A$2:$K$23,2) -> 10 | E13: =1/((1/A13)+(1/Sheet2!$D$28)) -> 4.2719443 | F13: =VLOOKUP(E13,$A$2:$K$23,2) -> 50 | G13: =C13+E13 -> 26.099944 | H13: =VLOOKUP(G13,$A$2:$K$23,2) -> 10
... A23: 329.2 | B23: -50 | C23: =A23+Sheet2!$D$27 -> 345.2 | D23: =VLOOKUP(C23,$A$2:$K$23,2) -> -50 | E23: =1/((1/A23)+(1/Sheet2!$D$28)) -> 15.258401 | F23: =VLOOKUP(E23,$A$2:$K$23,2) -> 20 | G23: =C23+E23 -> 360.4584 | H23: =VLOOKUP(G23,$A$2:$K$23,2) -> -50
C27: Series Value | D27: 16
C28: Parallel Value | D28: 16
